BEGIN:VCALENDAR
VERSION:2.0
PRODID:-//Grand Lodge of Alberta - ECPv6.15.20//NONSGML v1.0//EN
CALSCALE:GREGORIAN
METHOD:PUBLISH
X-WR-CALNAME:Grand Lodge of Alberta
X-ORIGINAL-URL:https://freemasons.ab.ca
X-WR-CALDESC:Events for Grand Lodge of Alberta
REFRESH-INTERVAL;VALUE=DURATION:PT1H
X-Robots-Tag:noindex
X-PUBLISHED-TTL:PT1H
BEGIN:VTIMEZONE
TZID:America/Edmonton
BEGIN:DAYLIGHT
TZOFFSETFROM:-0700
TZOFFSETTO:-0600
TZNAME:MDT
DTSTART:20250309T090000
END:DAYLIGHT
BEGIN:STANDARD
TZOFFSETFROM:-0600
TZOFFSETTO:-0700
TZNAME:MST
DTSTART:20251102T080000
END:STANDARD
BEGIN:DAYLIGHT
TZOFFSETFROM:-0700
TZOFFSETTO:-0600
TZNAME:MDT
DTSTART:20260308T090000
END:DAYLIGHT
BEGIN:STANDARD
TZOFFSETFROM:-0600
TZOFFSETTO:-0700
TZNAME:MST
DTSTART:20261101T080000
END:STANDARD
BEGIN:DAYLIGHT
TZOFFSETFROM:-0700
TZOFFSETTO:-0600
TZNAME:MDT
DTSTART:20270314T090000
END:DAYLIGHT
BEGIN:STANDARD
TZOFFSETFROM:-0600
TZOFFSETTO:-0700
TZNAME:MST
DTSTART:20271107T080000
END:STANDARD
END:VTIMEZONE
BEGIN:VEVENT
DTSTART;TZID=America/Edmonton:20260424T183000
DTEND;TZID=America/Edmonton:20260424T220000
DTSTAMP:20260424T035134
CREATED:20260315T165408Z
LAST-MODIFIED:20260315T165408Z
UID:10001995-1777055400-1777068000@freemasons.ab.ca
SUMMARY:Strathcona Lodge #77 (AYR) - Mini-Murder Mystery
DESCRIPTION:Time: Dinner 6:30 ($40.00) – Open to all Masons\, their Spouses and Invited Guests\nRSVP and etransfer to aprilmorris@live.ca
URL:https://freemasons.ab.ca/event/strathcona-lodge-77-ayr-mini-murder-mystery/
LOCATION:Acacia Masonic Hall\, 10433 - 83 Ave NW\, Edmonton\, Alberta\, Canada
CATEGORIES:Celebration,Fun Activity,Fund Raiser,Presentation
ATTACH;FMTTYPE=image/webp:https://freemasons.ab.ca/wp-content/uploads/2026/03/2026-04-24-Strathcona-Lodge-77-Mini-Murder-Mystery-fi.webp
END:VEVENT
BEGIN:VEVENT
DTSTART;TZID=America/Edmonton:20260424T193000
DTEND;TZID=America/Edmonton:20260424T213000
DTSTAMP:20260424T035134
CREATED:20260405T232123Z
LAST-MODIFIED:20260405T232123Z
UID:10002017-1777059000-1777066200@freemasons.ab.ca
SUMMARY:King George Lodge #59 - First Degree
DESCRIPTION:
URL:https://freemasons.ab.ca/event/king-george-lodge-59-first-degree/
LOCATION:King George Conference and Event Centre\, 3750 46 Ave SE #331\, Calgary\, AB\, T2B 0L1\, Canada
CATEGORIES:Degree - Initiation,Official Visit,Visit - GM
ATTACH;FMTTYPE=image/webp:https://freemasons.ab.ca/wp-content/uploads/2024/11/FI-1st-Degree.webp
END:VEVENT
END:VCALENDAR