BEGIN:VCALENDAR
VERSION:2.0
PRODID:-//Grand Lodge of Alberta - ECPv6.15.20//NONSGML v1.0//EN
CALSCALE:GREGORIAN
METHOD:PUBLISH
X-WR-CALNAME:Grand Lodge of Alberta
X-ORIGINAL-URL:https://freemasons.ab.ca
X-WR-CALDESC:Events for Grand Lodge of Alberta
REFRESH-INTERVAL;VALUE=DURATION:PT1H
X-Robots-Tag:noindex
X-PUBLISHED-TTL:PT1H
BEGIN:VTIMEZONE
TZID:America/Edmonton
BEGIN:DAYLIGHT
TZOFFSETFROM:-0700
TZOFFSETTO:-0600
TZNAME:MDT
DTSTART:20250309T090000
END:DAYLIGHT
BEGIN:STANDARD
TZOFFSETFROM:-0600
TZOFFSETTO:-0700
TZNAME:MST
DTSTART:20251102T080000
END:STANDARD
BEGIN:DAYLIGHT
TZOFFSETFROM:-0700
TZOFFSETTO:-0600
TZNAME:MDT
DTSTART:20260308T090000
END:DAYLIGHT
BEGIN:STANDARD
TZOFFSETFROM:-0600
TZOFFSETTO:-0700
TZNAME:MST
DTSTART:20261101T080000
END:STANDARD
BEGIN:DAYLIGHT
TZOFFSETFROM:-0700
TZOFFSETTO:-0600
TZNAME:MDT
DTSTART:20270314T090000
END:DAYLIGHT
BEGIN:STANDARD
TZOFFSETFROM:-0600
TZOFFSETTO:-0700
TZNAME:MST
DTSTART:20271107T080000
END:STANDARD
END:VTIMEZONE
BEGIN:VEVENT
DTSTART;TZID=America/Edmonton:20260415T193000
DTEND;TZID=America/Edmonton:20260415T213000
DTSTAMP:20260421T065311
CREATED:20260402T013548Z
LAST-MODIFIED:20260402T013548Z
UID:10002004-1776281400-1776288600@freemasons.ab.ca
SUMMARY:Redwood Lodge #193 (CR) – Masonic Education
DESCRIPTION:Cocktails 6:00pm / Dinner 6:30pm ($20.00) / Tyle 7:30pm\nRSVP Festive Board attendance with JW Bro Josh Robinson at redwoodjw193@gmail.com\nRegular Meeting – Masonic Education
URL:https://freemasons.ab.ca/event/redwood-lodge-193-cr-masonic-education/
LOCATION:Acacia Masonic Hall\, 10433 - 83 Ave NW\, Edmonton\, Alberta\, Canada
CATEGORIES:Education,Regular Meeting
ATTACH;FMTTYPE=image/webp:https://freemasons.ab.ca/wp-content/uploads/2024/11/Education-N-02.webp
ORGANIZER;CN="Redwood Lodge No 193":MAILTO:193redwood@gmail.com
END:VEVENT
END:VCALENDAR