BEGIN:VCALENDAR
VERSION:2.0
PRODID:-//Grand Lodge of Alberta - ECPv6.15.20//NONSGML v1.0//EN
CALSCALE:GREGORIAN
METHOD:PUBLISH
X-WR-CALNAME:Grand Lodge of Alberta
X-ORIGINAL-URL:https://freemasons.ab.ca
X-WR-CALDESC:Events for Grand Lodge of Alberta
REFRESH-INTERVAL;VALUE=DURATION:PT1H
X-Robots-Tag:noindex
X-PUBLISHED-TTL:PT1H
BEGIN:VTIMEZONE
TZID:America/Edmonton
BEGIN:DAYLIGHT
TZOFFSETFROM:-0700
TZOFFSETTO:-0600
TZNAME:MDT
DTSTART:20250309T090000
END:DAYLIGHT
BEGIN:STANDARD
TZOFFSETFROM:-0600
TZOFFSETTO:-0700
TZNAME:MST
DTSTART:20251102T080000
END:STANDARD
BEGIN:DAYLIGHT
TZOFFSETFROM:-0700
TZOFFSETTO:-0600
TZNAME:MDT
DTSTART:20260308T090000
END:DAYLIGHT
BEGIN:STANDARD
TZOFFSETFROM:-0600
TZOFFSETTO:-0700
TZNAME:MST
DTSTART:20261101T080000
END:STANDARD
BEGIN:DAYLIGHT
TZOFFSETFROM:-0700
TZOFFSETTO:-0600
TZNAME:MDT
DTSTART:20270314T090000
END:DAYLIGHT
BEGIN:STANDARD
TZOFFSETFROM:-0600
TZOFFSETTO:-0700
TZNAME:MST
DTSTART:20271107T080000
END:STANDARD
END:VTIMEZONE
BEGIN:VEVENT
DTSTART;TZID=America/Edmonton:20260121T193000
DTEND;TZID=America/Edmonton:20260121T213000
DTSTAMP:20260420T030559
CREATED:20260119T000119Z
LAST-MODIFIED:20260119T000119Z
UID:10001919-1769023800-1769031000@freemasons.ab.ca
SUMMARY:Balmoral Lodge #185 (CR) – 2nd Degree (2)
DESCRIPTION:Tyle 7:30pm / FB to follow\nEmergent Meeting – 2nd Degree (2)
URL:https://freemasons.ab.ca/event/balmoral-lodge-185-cr-2nd-degree-2-2/
LOCATION:Cornerstone Hall\, 6 Tache Street\, St. Albert\, Alberta
CATEGORIES:Degree - Fellowcraft,Emergent Meeting
ATTACH;FMTTYPE=image/webp:https://freemasons.ab.ca/wp-content/uploads/2024/11/FI-2nd-Degree.webp
END:VEVENT
BEGIN:VEVENT
DTSTART;TZID=America/Edmonton:20260121T193000
DTEND;TZID=America/Edmonton:20260121T213000
DTSTAMP:20260420T030559
CREATED:20260118T235525Z
LAST-MODIFIED:20260119T211659Z
UID:10001918-1769023800-1769031000@freemasons.ab.ca
SUMMARY:Avon Glen Lodge #170 (CR) – Education Challenge “Fellowcraft Quix”
DESCRIPTION:FB 6:30pm – a reservation has been at at Eleven / Eleven (ElevenEleven – Kitchen + Bar) across the street from Freemason’s Hall  for 20 people starting at 5:30pm in the back room. Each person will be responsible for paying for their own food and drink. \nTyle 7:30pm\nEmergent Meeting – Education Challenge “Fellowcraft Quix”\nA twenty-question quiz has been prepared for the FC degree. The quiz includes questions that encompass the entire FC degree start to finish. The questions range in difficulty.
URL:https://freemasons.ab.ca/event/avon-glen-lodge-170-cr-education-challenge-fellowcraft-quix/
LOCATION:Freemasons Hall – Edmonton\, 10318 - 100 Ave\, Edmonton\, AB
CATEGORIES:Education,Fun Activity,Regular Meeting
ATTACH;FMTTYPE=image/webp:https://freemasons.ab.ca/wp-content/uploads/2024/11/Education-N-02.webp
END:VEVENT
BEGIN:VEVENT
DTSTART;TZID=America/Edmonton:20260120T193000
DTEND;TZID=America/Edmonton:20260120T220000
DTSTAMP:20260420T030559
CREATED:20260102T205655Z
LAST-MODIFIED:20260110T020919Z
UID:10001883-1768937400-1768946400@freemasons.ab.ca
SUMMARY:Baseline Lodge #198 (CR) - Robbie Burns Dinner
DESCRIPTION:Open to all \nRSVP kyleamericano@gmail.com
URL:https://freemasons.ab.ca/event/baseline-lodge-198-cr-robbie-burns-dinner/
LOCATION:Pioneer Centre\, Jesperson Ave and Main\, Spruce Grove\, Alberta
CATEGORIES:Celebration
ATTACH;FMTTYPE=image/webp:https://freemasons.ab.ca/wp-content/uploads/2026/01/2026-01-20-Baseline-198-Burns-Dinner-fi.webp
END:VEVENT
BEGIN:VEVENT
DTSTART;TZID=America/Edmonton:20260119T193000
DTEND;TZID=America/Edmonton:20260119T213000
DTSTAMP:20260420T030559
CREATED:20260118T235043Z
LAST-MODIFIED:20260118T235043Z
UID:10001917-1768851000-1768858200@freemasons.ab.ca
SUMMARY:Griesbach Lodge #191 (CR) – 1st Degree
DESCRIPTION:FB 6:30pm / Tyle 7:30pm\nHighlands Masonic Hall\, 5526-118 Avenue\, Edmonton\nRegular Meeting – 1st Degree
URL:https://freemasons.ab.ca/event/griesbach-lodge-191-cr-1st-degree/
LOCATION:Highlands Masonic Hall\, 5526 - 118 Ave NW\, Edmonton\, AB
CATEGORIES:Degree - Initiation,Regular Meeting
ATTACH;FMTTYPE=image/webp:https://freemasons.ab.ca/wp-content/uploads/2024/11/FI-1st-Degree.webp
END:VEVENT
END:VCALENDAR