BEGIN:VCALENDAR
VERSION:2.0
PRODID:-//Grand Lodge of Alberta - ECPv6.15.20//NONSGML v1.0//EN
CALSCALE:GREGORIAN
METHOD:PUBLISH
X-ORIGINAL-URL:https://freemasons.ab.ca
X-WR-CALDESC:Events for Grand Lodge of Alberta
REFRESH-INTERVAL;VALUE=DURATION:PT1H
X-Robots-Tag:noindex
X-PUBLISHED-TTL:PT1H
BEGIN:VTIMEZONE
TZID:America/Edmonton
BEGIN:DAYLIGHT
TZOFFSETFROM:-0700
TZOFFSETTO:-0600
TZNAME:MDT
DTSTART:20250309T090000
END:DAYLIGHT
BEGIN:STANDARD
TZOFFSETFROM:-0600
TZOFFSETTO:-0700
TZNAME:MST
DTSTART:20251102T080000
END:STANDARD
BEGIN:DAYLIGHT
TZOFFSETFROM:-0700
TZOFFSETTO:-0600
TZNAME:MDT
DTSTART:20260308T090000
END:DAYLIGHT
BEGIN:STANDARD
TZOFFSETFROM:-0600
TZOFFSETTO:-0700
TZNAME:MST
DTSTART:20261101T080000
END:STANDARD
BEGIN:DAYLIGHT
TZOFFSETFROM:-0700
TZOFFSETTO:-0600
TZNAME:MDT
DTSTART:20270314T090000
END:DAYLIGHT
BEGIN:STANDARD
TZOFFSETFROM:-0600
TZOFFSETTO:-0700
TZNAME:MST
DTSTART:20271107T080000
END:STANDARD
END:VTIMEZONE
BEGIN:VEVENT
DTSTART;TZID=America/Edmonton:20260416T193000
DTEND;TZID=America/Edmonton:20260416T213000
DTSTAMP:20260424T092829
CREATED:20260402T014604Z
LAST-MODIFIED:20260412T164321Z
UID:10002006-1776367800-1776375000@freemasons.ab.ca
SUMMARY:Ivanhoe Lodge #142 (CR) – 3rd Degree (1)
DESCRIPTION:Tyle 7:30pm / FB to follow\nEmergent Meeting – 3rd Degree (1)
URL:https://freemasons.ab.ca/event/ivanhoe-lodge-142-cr-3rd-degree-1/
LOCATION:Freemasons Hall – Edmonton\, 10318 - 100 Ave\, Edmonton\, AB
CATEGORIES:Degree - Master Mason,Emergent Meeting
ATTACH;FMTTYPE=image/webp:https://freemasons.ab.ca/wp-content/uploads/2026/04/2026-04-16-Ivanhoe-Lodge-142-MM-Degree-fi.webp
END:VEVENT
BEGIN:VEVENT
DTSTART;TZID=America/Edmonton:20260415T193000
DTEND;TZID=America/Edmonton:20260415T213000
DTSTAMP:20260424T092829
CREATED:20260409T201859Z
LAST-MODIFIED:20260413T202032Z
UID:10002028-1776281400-1776288600@freemasons.ab.ca
SUMMARY:Avon Glen #170 -  EA Degree (3)
DESCRIPTION:FB 6:30 pm / Tyle 7:30 pm \nAs we are initiating a couple candidate’s we would like them to have the full experience including festive board at the Hall. \nMenu: roast beef dinner price is $25.
URL:https://freemasons.ab.ca/event/avon-glen-170-ea-degree/
LOCATION:Freemasons Hall – Edmonton\, 10318 - 100 Ave\, Edmonton\, AB
CATEGORIES:Degree - Initiation,Emergent Meeting
ATTACH;FMTTYPE=image/webp:https://freemasons.ab.ca/wp-content/uploads/2024/11/FI-1st-Degree.webp
END:VEVENT
BEGIN:VEVENT
DTSTART;TZID=America/Edmonton:20260409T193000
DTEND;TZID=America/Edmonton:20260409T213000
DTSTAMP:20260424T092829
CREATED:20260402T011623Z
LAST-MODIFIED:20260402T011837Z
UID:10002002-1775763000-1775770200@freemasons.ab.ca
SUMMARY:Ivanhoe Lodge #142 (CR) – Education
DESCRIPTION:Tyle 7:30pm / FB to follow\nRegular Meeting – Education by W Bro Greg Henkelman
URL:https://freemasons.ab.ca/event/ivanhoe-lodge-142-cr-education/
LOCATION:Freemasons Hall – Edmonton\, 10318 - 100 Ave\, Edmonton\, AB
CATEGORIES:Education,Regular Meeting
ATTACH;FMTTYPE=image/webp:https://freemasons.ab.ca/wp-content/uploads/2024/11/Education-N-02.webp
END:VEVENT
BEGIN:VEVENT
DTSTART;TZID=America/Edmonton:20260407T193000
DTEND;TZID=America/Edmonton:20260407T213000
DTSTAMP:20260424T092829
CREATED:20260402T010511Z
LAST-MODIFIED:20260402T010947Z
UID:10002000-1775590200-1775597400@freemasons.ab.ca
SUMMARY:Norwood Lodge #90 (CR) – Masonic Education
DESCRIPTION:FB 6:00pm (Donation) Tyle 7:30pm\nRegular Meeting – Masonic Education
URL:https://freemasons.ab.ca/event/norwood-lodge-90-cr-masonic-education/
LOCATION:Freemasons Hall – Edmonton\, 10318 - 100 Ave\, Edmonton\, AB
CATEGORIES:Education,Regular Meeting
ATTACH;FMTTYPE=image/webp:https://freemasons.ab.ca/wp-content/uploads/2024/11/FI-Education-01.webp
END:VEVENT
BEGIN:VEVENT
DTSTART;TZID=America/Edmonton:20260401T173000
DTEND;TZID=America/Edmonton:20260401T213000
DTSTAMP:20260424T092829
CREATED:20260401T042025Z
LAST-MODIFIED:20260401T042615Z
UID:10001998-1775064600-1775079000@freemasons.ab.ca
SUMMARY:Avon Glen No170 - Education
DESCRIPTION:FB: 5:30 pm at Eleven Eleven / Tyle: 7:30 pm \nEducation on intensity vs consistency a masons perspective in life\, business and networking.
URL:https://freemasons.ab.ca/event/avon-glen-170-education/
LOCATION:Freemasons Hall – Edmonton\, 10318 - 100 Ave\, Edmonton\, AB
CATEGORIES:Education,Regular Meeting
ATTACH;FMTTYPE=image/webp:https://freemasons.ab.ca/wp-content/uploads/2024/11/Education-N-02.webp
END:VEVENT
BEGIN:VEVENT
DTSTART;TZID=America/Edmonton:20260326T180000
DTEND;TZID=America/Edmonton:20260326T220000
DTSTAMP:20260424T092829
CREATED:20260228T211905Z
LAST-MODIFIED:20260228T211905Z
UID:10001960-1774548000-1774562400@freemasons.ab.ca
SUMMARY:Arkhitekton No 205 - Installation & Investiture of Officers
DESCRIPTION:Brethren are respectfully invited to attend and witness the Installation and Investiture Ceremony of Arkhitekton Lodge No. 205\, as the Lodge continues its work in \nEducation\, Ritual\, Fellowship.
URL:https://freemasons.ab.ca/event/arkhitekton-no-205-installation-investiture-of-officers/
LOCATION:Freemasons Hall – Edmonton\, 10318 - 100 Ave\, Edmonton\, AB
CATEGORIES:Installation
ATTACH;FMTTYPE=image/webp:https://freemasons.ab.ca/wp-content/uploads/2026/02/2026-03-24-Arkhitekton-205-Installation-fi.webp
END:VEVENT
BEGIN:VEVENT
DTSTART;TZID=America/Edmonton:20260325T190000
DTEND;TZID=America/Edmonton:20260325T213000
DTSTAMP:20260424T092829
CREATED:20260315T163659Z
LAST-MODIFIED:20260324T014317Z
UID:10001994-1774465200-1774474200@freemasons.ab.ca
SUMMARY:Mystic West Lodge #101 (CR) – 3rd Degree
DESCRIPTION:Tyle 7:00pm / FB to follow ($15.00)\nFreemasons Hall\, 10318-100 Avenue\, Edmonton\nEmergent Meeting – 3rd Degree
URL:https://freemasons.ab.ca/event/mystic-west-lodge-101-cr-3rd-degree-2/
LOCATION:Freemasons Hall – Edmonton\, 10318 - 100 Ave\, Edmonton\, AB
CATEGORIES:Degree - Master Mason,Emergent Meeting
ATTACH;FMTTYPE=image/webp:https://freemasons.ab.ca/wp-content/uploads/2024/11/FI-3rd-Degree.webp
END:VEVENT
BEGIN:VEVENT
DTSTART;TZID=America/Edmonton:20260324T193000
DTEND;TZID=America/Edmonton:20260324T213000
DTSTAMP:20260424T092829
CREATED:20260302T031008Z
LAST-MODIFIED:20260324T014142Z
UID:10001970-1774380600-1774387800@freemasons.ab.ca
SUMMARY:Patricia Lodge #91 (CR) – 2nd Degree
DESCRIPTION:Tyle 6:30pm / Tyle 7:30pm\nEmergent Meeting – 2nd Degree
URL:https://freemasons.ab.ca/event/patricia-lodge-91-cr-2nd-degree/
LOCATION:Freemasons Hall – Edmonton\, 10318 - 100 Ave\, Edmonton\, AB
CATEGORIES:Degree - Fellowcraft,Emergent Meeting
ATTACH;FMTTYPE=image/webp:https://freemasons.ab.ca/wp-content/uploads/2024/11/FI-2nd-Degree.webp
END:VEVENT
BEGIN:VEVENT
DTSTART;TZID=America/Edmonton:20260320T173000
DTEND;TZID=America/Edmonton:20260320T230000
DTSTAMP:20260424T092829
CREATED:20260302T030410Z
LAST-MODIFIED:20260302T030410Z
UID:10001969-1774027800-1774047600@freemasons.ab.ca
SUMMARY:Norwood Lodge #90 (CR) and Patricia Lodge #91 (CR) - Joint Ladies’ Night
DESCRIPTION:Cocktails 5:30pm / Dinner 6:30pm ($50.00)\nFreemasons Hall\, 10318-100 Avenue\, Edmonton
URL:https://freemasons.ab.ca/event/norwood-lodge-90-cr-and-patricia-lodge-91-cr-joint-ladies-night/
LOCATION:Freemasons Hall – Edmonton\, 10318 - 100 Ave\, Edmonton\, AB
CATEGORIES:Fellowship,Fun Activity,Ladies Night
END:VEVENT
BEGIN:VEVENT
DTSTART;TZID=America/Edmonton:20260319T193000
DTEND;TZID=America/Edmonton:20260319T213000
DTSTAMP:20260424T092829
CREATED:20260302T025442Z
LAST-MODIFIED:20260302T025442Z
UID:10001968-1773948600-1773955800@freemasons.ab.ca
SUMMARY:Ivanhoe Lodge #142 (CR) – 1st Degree
DESCRIPTION:Tyle 7:30pm / FB to follow\nFreemasons Hall\, 10318-100 Avenue\, Edmonton\nEmergent Meeting – 1st Degree
URL:https://freemasons.ab.ca/event/ivanhoe-lodge-142-cr-1st-degree/
LOCATION:Freemasons Hall – Edmonton\, 10318 - 100 Ave\, Edmonton\, AB
CATEGORIES:Degree - Initiation,Emergent Meeting
ATTACH;FMTTYPE=image/webp:https://freemasons.ab.ca/wp-content/uploads/2024/11/FI-1st-Degree.webp
END:VEVENT
BEGIN:VEVENT
DTSTART;TZID=America/Edmonton:20260316T193000
DTEND;TZID=America/Edmonton:20260316T213000
DTSTAMP:20260424T092829
CREATED:20260315T162017Z
LAST-MODIFIED:20260315T162017Z
UID:10001991-1773689400-1773696600@freemasons.ab.ca
SUMMARY:Jasper Lodge #14 (CR) – 2nd Degree
DESCRIPTION:FB 6:30pm / Tyle 7:30pm\nFreemasons Hall\, 10318-100 Avenue\, Edmonton\nRegular Meeting – 2nd Degree
URL:https://freemasons.ab.ca/event/jasper-lodge-14-cr-2nd-degree/
LOCATION:Freemasons Hall – Edmonton\, 10318 - 100 Ave\, Edmonton\, AB
CATEGORIES:Degree - Fellowcraft,Regular Meeting
ATTACH;FMTTYPE=image/webp:https://freemasons.ab.ca/wp-content/uploads/2024/11/FI-2nd-Degree.webp
END:VEVENT
BEGIN:VEVENT
DTSTART;TZID=America/Edmonton:20260310T193000
DTEND;TZID=America/Edmonton:20260310T213000
DTSTAMP:20260424T092829
CREATED:20260305T020733Z
LAST-MODIFIED:20260305T020733Z
UID:10001979-1773171000-1773178200@freemasons.ab.ca
SUMMARY:Edmonton Lodge #7 (AYR) – Education - “Estate Planning Importance”
DESCRIPTION:Cocktails 6:00pm / Dinner 6:30pm ($25.00 for members) / Tyle 7:30pm\nPlease call / email JW Bro Jeff Vienneau prior to Thursday February 05\, 2026\nto confirm your attendance at the Dinner 780-405-0716 or jw.edmonnton7@gmail .com\nRegular Meeting – Education by W Bro Lorn Stanners “Estate Planning Importance”
URL:https://freemasons.ab.ca/event/edmonton-lodge-7-ayr-education-estate-planning-importance/
LOCATION:Freemasons Hall – Edmonton\, 10318 - 100 Ave\, Edmonton\, AB
CATEGORIES:Education,Regular Meeting
ATTACH;FMTTYPE=image/webp:https://freemasons.ab.ca/wp-content/uploads/2024/11/FI-Education-02.webp
END:VEVENT
BEGIN:VEVENT
DTSTART;TZID=America/Edmonton:20260310T193000
DTEND;TZID=America/Edmonton:20260310T213000
DTSTAMP:20260424T092829
CREATED:20260301T223956Z
LAST-MODIFIED:20260301T223956Z
UID:10001962-1773171000-1773178200@freemasons.ab.ca
SUMMARY:Edmonton Lodge #7 (AYR) – Education - “The Royal Regiment of Canadian Artillery”
DESCRIPTION:Cocktails 6:00pm / Dinner 6:30pm ($25.00 for members) / Tyle 7:30pm\nPlease call / email JW Bro Jeff Vienneau prior to Thursday February 05\, 2026 to confirm your attendance at the Dinner 780-405-0716 or jw.edmonnton7@gmail .com\nRegular Meeting – Education by VW Bro Jeff Vinneau “The Royal Regiment of Canadian Artillery”
URL:https://freemasons.ab.ca/event/edmonton-lodge-7-ayr-education-the-royal-regiment-of-canadian-artillery/
LOCATION:Freemasons Hall – Edmonton\, 10318 - 100 Ave\, Edmonton\, AB
CATEGORIES:Education,Regular Meeting
ATTACH;FMTTYPE=image/webp:https://freemasons.ab.ca/wp-content/uploads/2024/11/FI-Education-02.webp
END:VEVENT
BEGIN:VEVENT
DTSTART;TZID=America/Edmonton:20260309T193000
DTEND;TZID=America/Edmonton:20260309T213000
DTSTAMP:20260424T092829
CREATED:20260301T222952Z
LAST-MODIFIED:20260301T222952Z
UID:10001961-1773084600-1773091800@freemasons.ab.ca
SUMMARY:Evergreen Lodge #166 (CR) – Education - “The Building of King Solomon’s Temple – Part 1”
DESCRIPTION:Tyle 7:30pm / FB to follow\nRegular Meeting – Education by WM Bro Darryl Bereziuk – “The Building of King Solomon’s Temple – Part 1”
URL:https://freemasons.ab.ca/event/evergreen-lodge-166-cr-education-the-building-of-king-solomons-temple-part-1/
LOCATION:Freemasons Hall – Edmonton\, 10318 - 100 Ave\, Edmonton\, AB
CATEGORIES:Education,Regular Meeting
ATTACH;FMTTYPE=image/webp:https://freemasons.ab.ca/wp-content/uploads/2024/11/FI-Education-01.webp
END:VEVENT
BEGIN:VEVENT
DTSTART;TZID=America/Edmonton:20260304T193000
DTEND;TZID=America/Edmonton:20260304T213000
DTSTAMP:20260424T092829
CREATED:20260305T015217Z
LAST-MODIFIED:20260305T015217Z
UID:10001977-1772652600-1772659800@freemasons.ab.ca
SUMMARY:Ivanhoe Lodge #142 (CR) – Education - “Reigniting the Heartbeat of Freemasonry”
DESCRIPTION:Tyle 7:30pm / FB to follow\nRegular Meeting\n– Education by Bro Trevor Elliot “Reigniting the Heartbeat of Freemasonry”\n– Presentation of 25 Year Pins & Certificates to Bro’s Bayrak\, Drozdrowski\, Kennair\, Mackie\, Rokosh & Shutt
URL:https://freemasons.ab.ca/event/ivanhoe-lodge-142-cr-education-reigniting-the-heartbeat-of-freemasonry/
LOCATION:Freemasons Hall – Edmonton\, 10318 - 100 Ave\, Edmonton\, AB
CATEGORIES:Education,Regular Meeting
ATTACH;FMTTYPE=image/webp:https://freemasons.ab.ca/wp-content/uploads/2024/11/fi-Education-N-02-1.webp
END:VEVENT
BEGIN:VEVENT
DTSTART;TZID=America/Edmonton:20260304T080000
DTEND;TZID=America/Edmonton:20260304T170000
DTSTAMP:20260424T092829
CREATED:20260305T023708Z
LAST-MODIFIED:20260305T023708Z
UID:10001984-1772611200-1772643600@freemasons.ab.ca
SUMMARY:Mystic West Lodge #101 (CR) – 3rd Degree
DESCRIPTION:Tyle 7:00pm / FB to follow ($15.00)\nEmergent Meeting – 3rd Degree
URL:https://freemasons.ab.ca/event/mystic-west-lodge-101-cr-3rd-degree/
LOCATION:Freemasons Hall – Edmonton\, 10318 - 100 Ave\, Edmonton\, AB
CATEGORIES:Degree - Master Mason,Emergent Meeting
ATTACH;FMTTYPE=image/webp:https://freemasons.ab.ca/wp-content/uploads/2024/11/FI-3rd-Degree.webp
END:VEVENT
BEGIN:VEVENT
DTSTART;TZID=America/Edmonton:20260302T193000
DTEND;TZID=America/Edmonton:20260302T220000
DTSTAMP:20260424T092829
CREATED:20260203T014257Z
LAST-MODIFIED:20260203T014257Z
UID:10001944-1772479800-1772488800@freemasons.ab.ca
SUMMARY:Empire Lodge #63 (CR) – 3rd Degree (2)
DESCRIPTION:Tyle 7:30pm / FB to follow \nEmergent Meeting – 3rd Degree (2)
URL:https://freemasons.ab.ca/event/empire-lodge-63-cr-3rd-degree-2/
LOCATION:Freemasons Hall – Edmonton\, 10318 - 100 Ave\, Edmonton\, AB
CATEGORIES:Degree - Master Mason,Emergent Meeting
ATTACH;FMTTYPE=image/webp:https://freemasons.ab.ca/wp-content/uploads/2024/11/FI-3rd-Degree.webp
END:VEVENT
BEGIN:VEVENT
DTSTART;TZID=America/Edmonton:20260228T090000
DTEND;TZID=America/Edmonton:20260228T160000
DTSTAMP:20260424T092829
CREATED:20260124T201440Z
LAST-MODIFIED:20260124T201440Z
UID:10001927-1772269200-1772294400@freemasons.ab.ca
SUMMARY:Avon Glen #170 - Doubles Crib
DESCRIPTION:$20 / pp Entry Fee (mac 36 players) \nHomemade Chili & Buns for lunch \nCall/text Bro Justin Hinks at 780-910-8332 to register.
URL:https://freemasons.ab.ca/event/avon-glen-170-doubles-crib/
LOCATION:Freemasons Hall – Edmonton\, 10318 - 100 Ave\, Edmonton\, AB
CATEGORIES:Fellowship,Fun Activity,Fund Raiser
ATTACH;FMTTYPE=image/webp:https://freemasons.ab.ca/wp-content/uploads/2026/01/2026-02-28-Avon-Glen-170-Crib-fi.webp
END:VEVENT
BEGIN:VEVENT
DTSTART;TZID=America/Edmonton:20260223T193000
DTEND;TZID=America/Edmonton:20260223T213000
DTSTAMP:20260424T092829
CREATED:20260102T182630Z
LAST-MODIFIED:20260102T182630Z
UID:10001877-1771875000-1771882200@freemasons.ab.ca
SUMMARY:Evergreen Lodge #166 (CR) – 1st Degree (1)
DESCRIPTION:Tyle 7:30pm / FB to follow \nFreemasons Hall\, 10318-100 Avenue\, Edmonton Emergent Meeting – 1st Degree (1)
URL:https://freemasons.ab.ca/event/evergreen-lodge-166-cr-1st-degree-1-2/
LOCATION:Freemasons Hall – Edmonton\, 10318 - 100 Ave\, Edmonton\, AB
CATEGORIES:Degree - Initiation,Emergent Meeting
ATTACH;FMTTYPE=image/webp:https://freemasons.ab.ca/wp-content/uploads/2024/11/FI-1st-Degree.webp
END:VEVENT
BEGIN:VEVENT
DTSTART;TZID=America/Edmonton:20260221T130000
DTEND;TZID=America/Edmonton:20260221T160000
DTSTAMP:20260424T092829
CREATED:20260224T040517Z
LAST-MODIFIED:20260224T040517Z
UID:10001954-1771678800-1771689600@freemasons.ab.ca
SUMMARY:Commercial Lodge #81 (CR) – 1st Degree (2)
DESCRIPTION:Tyle 1:00pm / FB to follow ($40.00)\nRSVP Festive Board attendance or payment to JW Bro Blen Calderon at commercial81jw@gmail.com\nFreemasons Hall\, 10318-100 Avenue\, Edmonton\nRegular Meeting – 1st Degree (2)
URL:https://freemasons.ab.ca/event/commercial-lodge-81-cr-1st-degree-2/
LOCATION:Freemasons Hall – Edmonton\, 10318 - 100 Ave\, Edmonton\, AB
CATEGORIES:Degree - Initiation,Regular Meeting
ATTACH;FMTTYPE=image/webp:https://freemasons.ab.ca/wp-content/uploads/2024/11/FI-1st-Degree.webp
END:VEVENT
BEGIN:VEVENT
DTSTART;TZID=America/Edmonton:20260219T193000
DTEND;TZID=America/Edmonton:20260219T213000
DTSTAMP:20260424T092829
CREATED:20260224T034956Z
LAST-MODIFIED:20260224T034956Z
UID:10001952-1771529400-1771536600@freemasons.ab.ca
SUMMARY:Ivanhoe Lodge #142 (CR) – 2nd Degree (1)
DESCRIPTION:Tyle 7:30pm / FB to follow\nEmergent Meeting – 2nd Degree (1)
URL:https://freemasons.ab.ca/event/ivanhoe-lodge-142-cr-2nd-degree-1/
LOCATION:Freemasons Hall – Edmonton\, 10318 - 100 Ave\, Edmonton\, AB
CATEGORIES:Degree - Fellowcraft,Emergent Meeting
ATTACH;FMTTYPE=image/webp:https://freemasons.ab.ca/wp-content/uploads/2024/11/FI-2nd-Degree.webp
END:VEVENT
BEGIN:VEVENT
DTSTART;TZID=America/Edmonton:20260218T193000
DTEND;TZID=America/Edmonton:20260218T220000
DTSTAMP:20260424T092829
CREATED:20260202T161133Z
LAST-MODIFIED:20260202T162948Z
UID:10001940-1771443000-1771452000@freemasons.ab.ca
SUMMARY:Avon Glen Lodge #170 (CR) – 3rd Degree (2)
DESCRIPTION:FB 5:30pm / Tyle 7:30pm \nEmergent Meeting – 3rd Degree (2) \nFestive Board will be held at  Eleven Eleven Kitchen & Bar: 10309 100 Ave NW\, Edmonton\, Alberta (across the street from Freemasons Hall)\nEach attendee will be responsible for his food and drink bill. So that the kitchen is not overwhelmed\, please ensure  you leave enough time to order as everyone will be ordering somewhat at the same time.
URL:https://freemasons.ab.ca/event/avon-glen-lodge-170-cr-3rd-degree-2/
LOCATION:Freemasons Hall – Edmonton\, 10318 - 100 Ave\, Edmonton\, AB
CATEGORIES:Degree - Master Mason,Emergent Meeting
ATTACH;FMTTYPE=image/webp:https://freemasons.ab.ca/wp-content/uploads/2024/11/FI-3rd-Degree.webp
END:VEVENT
BEGIN:VEVENT
DTSTART;TZID=America/Edmonton:20260218T193000
DTEND;TZID=America/Edmonton:20260218T213000
DTSTAMP:20260424T092829
CREATED:20260203T003937Z
LAST-MODIFIED:20260203T003937Z
UID:10001941-1771443000-1771450200@freemasons.ab.ca
SUMMARY:Jasper Lodge #14 (CR) - Education
DESCRIPTION:Jasper Lodge #14 (CR)\nFB 6:30pm / Tyle 7:30pm / Refreshment to follow in Lounge\nFreemasons Hall\, 10318-100 Avenue\, Edmonton\nRegular Meeting – Education
URL:https://freemasons.ab.ca/event/jasper-lodge-14-cr-education/
LOCATION:Freemasons Hall – Edmonton\, 10318 - 100 Ave\, Edmonton\, AB
CATEGORIES:Education,Regular Meeting
ATTACH;FMTTYPE=image/webp:https://freemasons.ab.ca/wp-content/uploads/2024/11/FI-Education-01.webp
END:VEVENT
BEGIN:VEVENT
DTSTART;TZID=America/Edmonton:20260209T193000
DTEND;TZID=America/Edmonton:20260209T213000
DTSTAMP:20260424T092829
CREATED:20260202T040956Z
LAST-MODIFIED:20260202T040956Z
UID:10001934-1770665400-1770672600@freemasons.ab.ca
SUMMARY:Evergreen Lodge #166 (CR) – Official Visit Northern Lights District DDGM
DESCRIPTION:Tyle 7:30pm / FB to follow\nRegular Meeting – Official Visit Northern Lights District DDGM RW Bro Garry Schultz
URL:https://freemasons.ab.ca/event/evergreen-lodge-166-cr-official-visit-northern-lights-district-ddgm/
LOCATION:Freemasons Hall – Edmonton\, 10318 - 100 Ave\, Edmonton\, AB
CATEGORIES:Official Visit,Regular Meeting,Visit - DDGM
ATTACH;FMTTYPE=image/webp:https://freemasons.ab.ca/wp-content/uploads/2024/11/FI-Official-Visit-01.webp
END:VEVENT
BEGIN:VEVENT
DTSTART;TZID=America/Edmonton:20260130T193000
DTEND;TZID=America/Edmonton:20260130T213000
DTSTAMP:20260424T092829
CREATED:20260104T192238Z
LAST-MODIFIED:20260104T192238Z
UID:10001892-1769801400-1769808600@freemasons.ab.ca
SUMMARY:Arkhitekton #205 - Working Tools of a Fellowcraft
DESCRIPTION:FB: 6:30 pm / Tyle” 7:30 pm \nRSVP & eTransfer: $35 to:\narkhitektonevents@gmail.com
URL:https://freemasons.ab.ca/event/arkhitekton-205-working-tools-of-a-fellowcraft/
LOCATION:Freemasons Hall – Edmonton\, 10318 - 100 Ave\, Edmonton\, AB
CATEGORIES:Education,Regular Meeting
ATTACH;FMTTYPE=image/webp:https://freemasons.ab.ca/wp-content/uploads/2026/01/2026-01-30-Arkhitekton-No-205-fi.webp
END:VEVENT
BEGIN:VEVENT
DTSTART;TZID=America/Edmonton:20260128T190000
DTEND;TZID=America/Edmonton:20260128T213000
DTSTAMP:20260424T092829
CREATED:20260119T003230Z
LAST-MODIFIED:20260119T003230Z
UID:10001923-1769626800-1769635800@freemasons.ab.ca
SUMMARY:Mystic West Lodge #101 (CR) – 2nd Degree
DESCRIPTION:Tyle 7:00pm / FB to follow ($15.00)\nEmergent Meeting – 2nd Degree
URL:https://freemasons.ab.ca/event/mystic-west-lodge-101-cr-2nd-degree/
LOCATION:Freemasons Hall – Edmonton\, 10318 - 100 Ave\, Edmonton\, AB
CATEGORIES:Degree - Fellowcraft,Emergent Meeting
ATTACH;FMTTYPE=image/webp:https://freemasons.ab.ca/wp-content/uploads/2024/11/FI-2nd-Degree.webp
END:VEVENT
BEGIN:VEVENT
DTSTART;TZID=America/Edmonton:20260127T193000
DTEND;TZID=America/Edmonton:20260127T213000
DTSTAMP:20260424T092829
CREATED:20260119T002511Z
LAST-MODIFIED:20260119T002649Z
UID:10001922-1769542200-1769549400@freemasons.ab.ca
SUMMARY:Patricia Lodge #91 (CR) – 1st Degree
DESCRIPTION:FB 6:30pm / Tyle 7:30pm\nEmergent Meeting – 1st Degree
URL:https://freemasons.ab.ca/event/patricia-lodge-91-cr-1st-degree-2/
LOCATION:Freemasons Hall – Edmonton\, 10318 - 100 Ave\, Edmonton\, AB
CATEGORIES:Degree - Initiation,Emergent Meeting
ATTACH;FMTTYPE=image/webp:https://freemasons.ab.ca/wp-content/uploads/2024/11/FI-1st-Degree.webp
END:VEVENT
BEGIN:VEVENT
DTSTART;TZID=America/Edmonton:20260126T193000
DTEND;TZID=America/Edmonton:20260126T213000
DTSTAMP:20260424T092829
CREATED:20251204T021914Z
LAST-MODIFIED:20260118T233854Z
UID:10001866-1769455800-1769463000@freemasons.ab.ca
SUMMARY:Jasper Lodge #14 (CR) - Installation of Worshipful Master & Investiture of Officers
DESCRIPTION:FB 6:30pm / Tyle 7:30pm / Refreshment to follow in Lounge
URL:https://freemasons.ab.ca/event/jasper-lodge-14-cr-installation-of-worshipful-master-investiture-of-officers/
LOCATION:Freemasons Hall – Edmonton\, 10318 - 100 Ave\, Edmonton\, AB
CATEGORIES:Installation
ATTACH;FMTTYPE=image/webp:https://freemasons.ab.ca/wp-content/uploads/2026/01/2026-01-26-Jasper-Lodge-14-Invitation-to-Installation-of-Worshipful-Master-Investiture-of-Officers-fi.webp
END:VEVENT
END:VCALENDAR