BEGIN:VCALENDAR
VERSION:2.0
PRODID:-//Grand Lodge of Alberta - ECPv6.15.20//NONSGML v1.0//EN
CALSCALE:GREGORIAN
METHOD:PUBLISH
X-WR-CALNAME:Grand Lodge of Alberta
X-ORIGINAL-URL:https://freemasons.ab.ca
X-WR-CALDESC:Events for Grand Lodge of Alberta
REFRESH-INTERVAL;VALUE=DURATION:PT1H
X-Robots-Tag:noindex
X-PUBLISHED-TTL:PT1H
BEGIN:VTIMEZONE
TZID:America/Edmonton
BEGIN:DAYLIGHT
TZOFFSETFROM:-0700
TZOFFSETTO:-0600
TZNAME:MDT
DTSTART:20250309T090000
END:DAYLIGHT
BEGIN:STANDARD
TZOFFSETFROM:-0600
TZOFFSETTO:-0700
TZNAME:MST
DTSTART:20251102T080000
END:STANDARD
BEGIN:DAYLIGHT
TZOFFSETFROM:-0700
TZOFFSETTO:-0600
TZNAME:MDT
DTSTART:20260308T090000
END:DAYLIGHT
BEGIN:STANDARD
TZOFFSETFROM:-0600
TZOFFSETTO:-0700
TZNAME:MST
DTSTART:20261101T080000
END:STANDARD
BEGIN:DAYLIGHT
TZOFFSETFROM:-0700
TZOFFSETTO:-0600
TZNAME:MDT
DTSTART:20270314T090000
END:DAYLIGHT
BEGIN:STANDARD
TZOFFSETFROM:-0600
TZOFFSETTO:-0700
TZNAME:MST
DTSTART:20271107T080000
END:STANDARD
END:VTIMEZONE
BEGIN:VEVENT
DTSTART;TZID=America/Edmonton:20260425T180000
DTEND;TZID=America/Edmonton:20260425T233000
DTSTAMP:20260424T104203
CREATED:20260411T160644Z
LAST-MODIFIED:20260411T160644Z
UID:10002029-1777140000-1777159800@freemasons.ab.ca
SUMMARY:Mystic West #101 - Boozeapalooza Bash
DESCRIPTION:🎉 BOOZAPALOOZA 🎉 18+ \nFamily Friendly Event \nFeaturing our tribute band\, Yellowhead bringing the rock and classics to life and keeping the party rolling all night long. \nAn unforgettable night of music\, friends\, and a legendary DOOR prize! \nGet ready for our Boozapalooza\, a high-energy fundraiser packed with great vibes and even better company \n🎄 THE ULTIMATE DOOR PRIZE🎄 \nPicture a Christmas tree… now imagine it loaded with bottles of your favorite spirits instead of ornaments. One lucky attendant will take home our famous Tree of Booze at the end of the night! \n🍹 You can’t buy happiness — but you can buy a ticket to great music and laughter with friends. \nGood times. Great cause. Legendary door prize. \nDon’t miss our Boozapalooza party. \nTickets available from the bar at the Edmonton Freemason’s Hall! Buy your tickets now before they’re gone!
URL:https://freemasons.ab.ca/event/mystic-west-101-boozeapalooza-bash/
LOCATION:Freemasons Hall – Edmonton\, 10318 - 100 Ave\, Edmonton\, AB
CATEGORIES:Family Event,Fellowship,Fun Activity,Fund Raiser
ATTACH;FMTTYPE=image/webp:https://freemasons.ab.ca/wp-content/uploads/2026/04/2026-04-25-Mystic-West-101-Boozeapalooza-Bash-fi.webp
END:VEVENT
BEGIN:VEVENT
DTSTART;TZID=America/Edmonton:20260427T193000
DTEND;TZID=America/Edmonton:20260427T220000
DTSTAMP:20260424T104203
CREATED:20260402T020235Z
LAST-MODIFIED:20260414T231620Z
UID:10002008-1777318200-1777327200@freemasons.ab.ca
SUMMARY:Evergreen Lodge #166 (CR) – 3rd Degree (1 from Evergreen Lodge) (1 from Mystic West Lodge)
DESCRIPTION:Tyle 7:30pm / FB to follow\nEmergent Meeting – 3rd Degree\n(1 from Evergreen Lodge)\n(1 from Mystic West Lodge)
URL:https://freemasons.ab.ca/event/evergreen-lodge-166-cr-3rd-degree-1-from-evergreen-lodge-1-from-mystic-west-lodge/
LOCATION:Freemasons Hall – Edmonton\, 10318 - 100 Ave\, Edmonton\, AB
CATEGORIES:Degree - Master Mason,Emergent Meeting
ATTACH;FMTTYPE=image/webp:https://freemasons.ab.ca/wp-content/uploads/2024/11/FI-3rd-Degree.webp
END:VEVENT
BEGIN:VEVENT
DTSTART;TZID=America/Edmonton:20260428T193000
DTEND;TZID=America/Edmonton:20260428T213000
DTSTAMP:20260424T104203
CREATED:20260415T024107Z
LAST-MODIFIED:20260415T024107Z
UID:10002035-1777404600-1777411800@freemasons.ab.ca
SUMMARY:Patricia Lodge #91 (CR) – 2nd Degree (2)
DESCRIPTION:Tyle 6:30pm / Tyle 7:30pm \nFreemasons Hall\, 10318-100 Avenue\, Edmonton \nEmergent Meeting – 2nd Degree (2)
URL:https://freemasons.ab.ca/event/patricia-lodge-91-cr-2nd-degree-2/
LOCATION:Freemasons Hall – Edmonton\, 10318 - 100 Ave\, Edmonton\, AB
CATEGORIES:Degree - Fellowcraft,Emergent Meeting
ATTACH;FMTTYPE=image/webp:https://freemasons.ab.ca/wp-content/uploads/2024/11/FI-2nd-Degree.webp
END:VEVENT
BEGIN:VEVENT
DTSTART;TZID=America/Edmonton:20260502T173000
DTEND;TZID=America/Edmonton:20260502T220000
DTSTAMP:20260424T104203
CREATED:20260406T191846Z
LAST-MODIFIED:20260406T193225Z
UID:10002024-1777743000-1777759200@freemasons.ab.ca
SUMMARY:Edmonton Lodge #7 - Whiskey Tasting
DESCRIPTION:Doors open 5:30 pm\nTasting Begins 6 PM Sharp \nContact Mack at 780-718-5059 to reserve your spot
URL:https://freemasons.ab.ca/event/edmonton-lodge-7-whiskey-tasting/
LOCATION:Freemasons Hall – Edmonton\, 10318 - 100 Ave\, Edmonton\, AB
CATEGORIES:Fellowship,Fun Activity,Fund Raiser
ATTACH;FMTTYPE=image/webp:https://freemasons.ab.ca/wp-content/uploads/2026/04/2026-05-02-Irish-Whiskey-fi.webp
END:VEVENT
BEGIN:VEVENT
DTSTART;TZID=America/Edmonton:20260511T193000
DTEND;TZID=America/Edmonton:20260511T220000
DTSTAMP:20260424T104203
CREATED:20260405T232506Z
LAST-MODIFIED:20260405T232506Z
UID:10002018-1778527800-1778536800@freemasons.ab.ca
SUMMARY:Evergreen Lodge #166 - Wild West Night
DESCRIPTION:
URL:https://freemasons.ab.ca/event/evergreen-lodge-166-wild-west-night/
LOCATION:Freemasons Hall – Edmonton\, 10318 - 100 Ave\, Edmonton\, AB
CATEGORIES:Regular Meeting
END:VEVENT
END:VCALENDAR